BEGIN:VCALENDAR
VERSION:2.0
PRODID:-//Royal Leamington Spa - ECPv6.15.16//NONSGML v1.0//EN
CALSCALE:GREGORIAN
METHOD:PUBLISH
X-WR-CALNAME:Royal Leamington Spa
X-ORIGINAL-URL:https://royal-leamington-spa.co.uk
X-WR-CALDESC:Events for Royal Leamington Spa
REFRESH-INTERVAL;VALUE=DURATION:PT1H
X-Robots-Tag:noindex
X-PUBLISHED-TTL:PT1H
BEGIN:VTIMEZONE
TZID:Europe/London
BEGIN:DAYLIGHT
TZOFFSETFROM:+0000
TZOFFSETTO:+0100
TZNAME:BST
DTSTART:20250330T010000
END:DAYLIGHT
BEGIN:STANDARD
TZOFFSETFROM:+0100
TZOFFSETTO:+0000
TZNAME:GMT
DTSTART:20251026T010000
END:STANDARD
BEGIN:DAYLIGHT
TZOFFSETFROM:+0000
TZOFFSETTO:+0100
TZNAME:BST
DTSTART:20260329T010000
END:DAYLIGHT
BEGIN:STANDARD
TZOFFSETFROM:+0100
TZOFFSETTO:+0000
TZNAME:GMT
DTSTART:20261025T010000
END:STANDARD
BEGIN:DAYLIGHT
TZOFFSETFROM:+0000
TZOFFSETTO:+0100
TZNAME:BST
DTSTART:20270328T010000
END:DAYLIGHT
BEGIN:STANDARD
TZOFFSETFROM:+0100
TZOFFSETTO:+0000
TZNAME:GMT
DTSTART:20271031T010000
END:STANDARD
END:VTIMEZONE
BEGIN:VEVENT
DTSTART;TZID=Europe/London:20260226T103000
DTEND;TZID=Europe/London:20260226T113000
DTSTAMP:20260422T123010
CREATED:20260209T155429Z
LAST-MODIFIED:20260209T155429Z
UID:10002043-1772101800-1772105400@royal-leamington-spa.co.uk
SUMMARY:Arty Tots
DESCRIPTION:An hour of fun with a dedicated craft session for your little ones.\nActivities include printing\, painting\, junk modelling and clay play.\n£3 per family.\nNo booking required.
URL:https://royal-leamington-spa.co.uk/event/arty-tots/2026-02-26/
LOCATION:Leamington Spa Art Gallery & Museum\, Royal Pump Rooms\, Parade\, Leamington Spa\, Warwickshire\, CV324AA\, United Kingdom
CATEGORIES:Event
ATTACH;FMTTYPE=image/jpeg:https://royal-leamington-spa.co.uk/wp-content/uploads/2026/02/7790667b1499641e0a482fd470ef3a3eb0b7d17469237a4cb9f28a097afaa2aa-2.jpg
GEO:52.2870619;-1.5344092
X-APPLE-STRUCTURED-LOCATION;VALUE=URI;X-ADDRESS=Leamington Spa Art Gallery & Museum Royal Pump Rooms Parade Leamington Spa Warwickshire CV324AA United Kingdom;X-APPLE-RADIUS=500;X-TITLE=Royal Pump Rooms\, Parade:geo:-1.5344092,52.2870619
END:VEVENT
BEGIN:VEVENT
DTSTART;TZID=Europe/London:20260226T173000
DTEND;TZID=Europe/London:20260226T193000
DTSTAMP:20260422T123010
CREATED:20250930T143128Z
LAST-MODIFIED:20250930T143543Z
UID:10001704-1772127000-1772134200@royal-leamington-spa.co.uk
SUMMARY:Run Club at Sculpt
DESCRIPTION:Running isn’t just exercise—it’s essential. At Sculpt Run Club\, we see running as more than logging miles; it’s about clearing the fog\, unlocking energy\, and resetting your perspective. Science backs what every runner knows first hand: the discipline sharpens focus\, lifts your mood\, and lowers stress. But discipline can be tough to sustain on your own—and that’s where community makes all the difference. \nSculpt Run Club transforms running from a solitary grind into a shared movement. When you run with others\, excuses fade\, momentum builds\, and resilience grows. Side by side\, we push further\, keep each other accountable\, and celebrate progress that consistency makes possible. Every stride isn’t just about covering ground—it’s about building strength in body and mind\, and proving to yourself that growth is best achieved together.
URL:https://royal-leamington-spa.co.uk/event/run-club-at-sculpt/2026-02-26/
LOCATION:Sculpt\, 47-49 Warwick Street Leamington Spa\, Leamington Spa\, CV32 5JR\, United Kingdom
CATEGORIES:Event
ATTACH;FMTTYPE=image/png:https://royal-leamington-spa.co.uk/wp-content/uploads/2025/09/Sculpt-running.png
END:VEVENT
BEGIN:VEVENT
DTSTART;TZID=Europe/London:20260226T183000
DTEND;TZID=Europe/London:20260226T203000
DTSTAMP:20260422T123010
CREATED:20260106T153739Z
LAST-MODIFIED:20260113T151313Z
UID:10001973-1772130600-1772137800@royal-leamington-spa.co.uk
SUMMARY:Tanya Sweeney in Conversation with Alice Slater
DESCRIPTION:Join us for an evening with Tanya Sweeney to discuss her debut novel Esther is Now Following You. The evening will consist of an author talk followed by an audience Q&A. \nTanya Sweeney will be joined in conversation with Alice Slater. Copies of both author’s books will be available at the event. \nBook your ticket here…  tanya-sweeney-in-conversation-with-alice-slater
URL:https://royal-leamington-spa.co.uk/event/tanya-sweeney-in-conversation-with-alice-slater/
LOCATION:Waterstones\, Warwick Street\, Leamington Spa\, Warwickshire\, United Kingdom
CATEGORIES:Event
ATTACH;FMTTYPE=image/jpeg:https://royal-leamington-spa.co.uk/wp-content/uploads/2026/01/water-1-scaled.jpg
GEO:52.291909;-1.5353861
X-APPLE-STRUCTURED-LOCATION;VALUE=URI;X-ADDRESS=Waterstones Warwick Street Leamington Spa Warwickshire United Kingdom;X-APPLE-RADIUS=500;X-TITLE=Warwick Street:geo:-1.5353861,52.291909
END:VEVENT
BEGIN:VEVENT
DTSTART;TZID=Europe/London:20260226T190000
DTEND;TZID=Europe/London:20260226T220000
DTSTAMP:20260422T123010
CREATED:20260108T145001Z
LAST-MODIFIED:20260108T145614Z
UID:10001975-1772132400-1772143200@royal-leamington-spa.co.uk
SUMMARY:Wine tasting evening at Taverna Meraki | Thursday 26th Feb
DESCRIPTION:Taverna Meraki Royal Leamington Spa\, England \nThursday\, Feb 26 from 7 pm to 10 pm GMT\n\n\n\n\n\n\n\nWine tasting evening hosted by our wonderful supplier Tim from Hallgarten & Novum Wines. \n\n\n\n\nWine Tasting Evening at Taverna Meraki \nThursday 26th February 2026 | 7 PM to 9 PM! \nAs we slowly edge out of the winter months we would like to invite you to our wine-tasting evening showcasing wines for the lighter months with our wonderful supplier Tim from Hallgarten & Novum Wines. Tim will be discussing the wines & which are best paired with our dishes as you enjoy! \nWhether you’re a wine connoisseur or just looking for a different experience to share with family or friends this will be the perfect evening. \nTickets are priced at £45pp which includes an evening of wine & nibbles. \nYamas! 🍷
URL:https://royal-leamington-spa.co.uk/event/wine-tasting-evening-at-taverna-meraki-thursday-26th-feb/
LOCATION:Taverna Meraki\, 97-99 Regent Street\, Royal Leamington Spa\, Warwickshire\, CV32 4NT\, United Kingdom
CATEGORIES:Event
ATTACH;FMTTYPE=image/png:https://royal-leamington-spa.co.uk/wp-content/uploads/2026/01/wine-tm.png
END:VEVENT
BEGIN:VEVENT
DTSTART;TZID=Europe/London:20260226T200000
DTEND;TZID=Europe/London:20260226T220000
DTSTAMP:20260422T123010
CREATED:20250728T152454Z
LAST-MODIFIED:20250728T152521Z
UID:10001080-1772136000-1772143200@royal-leamington-spa.co.uk
SUMMARY:The Copper Pot Quiz Night
DESCRIPTION:Join us for our pub quiz every Thursday at 8pm.
URL:https://royal-leamington-spa.co.uk/event/the-copper-pot-quiz-night/2026-02-26/
LOCATION:The Copper Pot\, 41 -43 Warwick Street\, Leamington Spa\, CV32 5JX\, United Kingdom
CATEGORIES:Event
ATTACH;FMTTYPE=image/jpeg:https://royal-leamington-spa.co.uk/wp-content/uploads/2025/07/524346639_122143740386785954_7814138568895744763_n.jpg
END:VEVENT
BEGIN:VEVENT
DTSTART;TZID=Europe/London:20260226T200000
DTEND;TZID=Europe/London:20260226T220000
DTSTAMP:20260422T123010
CREATED:20260108T150124Z
LAST-MODIFIED:20260108T150124Z
UID:10001977-1772136000-1772143200@royal-leamington-spa.co.uk
SUMMARY:THE ROYAL PUG COMEDY CLUB
DESCRIPTION:Come and enjoy another intimate cosy evening at The Royal Pug of the very best comedy \n\n\n\n\nThe Royal Pug Comedy Club! \n8pm. 18+ Thursday 26th February 2026 \nCome and enjoy another intimate cosy evening at The Royal Pug of the very best comedy from some of the very best stand-up comedians on the UK comedy circus. \nTonight we have the most excellent Alexander Bennet\, Javier Jarquin and the sublime\, silly and stupendous ventriloquist Max Fulham! \nDo note line-up is subject to change \nMax Fulham has quickly established himself on the comedy circuit with his effervescent delivery and sharp improvisation. \nCombining stand-up with his skilled ventriloquism and puppetry\, Max blends the best variety traditions with contemporary comedy. \nMax has wowed audiences\, entertaining thousands of people in theatres across the UK and internationally and with viral success amassing 3 million likes on TikTok\, Max is a performer not to be missed. \n‘Max is brilliant! He’s Old School meets NuSkool in the best and funniest way!’ Mel Geidroyc \nAlexander Bennett’s comedy has been variously described as dark\, silly\, filthy and thoughtful. He has numerous Edinburgh Fringe runs under his belt\, has filmed several stand up specials and he created the cult hit comedy game show Hell To Play. He has recently started his new podcast Born Yesterday ​with comedian Andy Barr. \nHe was a key player in Mark Watson’s Comedy Marathon\, was nominated at the Leicester Comedy Awards as part of Consignia and co-orchestrated a huge charity event at the Pleasance Grand in Edinburgh called Dan Vs Food\, in which a cast of 25+ comedians (including Phil Wang\, Ed Gamble\, Iain Stirling\, Nick Helm\, Sophie Duker and Ivo Graham) watched a man called Dan eat his lunch.“Passionate and praiseworthy dark observational comedy”THE SKINNY \n“Unique and hilarious”THE REVIEWS HUB \nJavier Jarquin \nJavier Jarquin is an extremely experienced and highly respected\, multi-skilled performer. Having performed his critically acclaimed show Card Ninja in 27 territories\, Javier has established himself as a masterful entertainer. \nJavier was raised in New Zealand with Latin-American/Chinese parents\, and skilfully weaves his unique perspective into every performance and delivers sharply executed insights on life as an immigrant. In addition\, Javier’s joke rate is something to be envious of\, a witty quick-hitter. \nThe perfect all-round entertainer with an abundance of skill\, comedic flair and excessive likability\, Javier is one to watch. \n‘High calibre throughout’ The Morning Star \n‘Fresh\, funny and unique.’ The Press (NZ) \n‘Jarquin draws in the audience like an industrial magnet.’ SG Fringe
URL:https://royal-leamington-spa.co.uk/event/the-royal-pug-comedy-club-3/
LOCATION:The Royal Pug\, 141 Regent Street \, Leamington Spa\, CV324NX\, United Kingdom
CATEGORIES:Event
ATTACH;FMTTYPE=image/png:https://royal-leamington-spa.co.uk/wp-content/uploads/2026/01/comedy-at-pug.png
GEO:52.2906951;-1.5326029
X-APPLE-STRUCTURED-LOCATION;VALUE=URI;X-ADDRESS=The Royal Pug 141 Regent Street  Leamington Spa CV324NX United Kingdom;X-APPLE-RADIUS=500;X-TITLE=141 Regent Street:geo:-1.5326029,52.2906951
END:VEVENT
END:VCALENDAR