BEGIN:VCALENDAR
VERSION:2.0
PRODID:-//Royal Leamington Spa - ECPv6.15.16//NONSGML v1.0//EN
CALSCALE:GREGORIAN
METHOD:PUBLISH
X-WR-CALNAME:Royal Leamington Spa
X-ORIGINAL-URL:https://royal-leamington-spa.co.uk
X-WR-CALDESC:Events for Royal Leamington Spa
REFRESH-INTERVAL;VALUE=DURATION:PT1H
X-Robots-Tag:noindex
X-PUBLISHED-TTL:PT1H
BEGIN:VTIMEZONE
TZID:Europe/London
BEGIN:DAYLIGHT
TZOFFSETFROM:+0000
TZOFFSETTO:+0100
TZNAME:BST
DTSTART:20250330T010000
END:DAYLIGHT
BEGIN:STANDARD
TZOFFSETFROM:+0100
TZOFFSETTO:+0000
TZNAME:GMT
DTSTART:20251026T010000
END:STANDARD
BEGIN:DAYLIGHT
TZOFFSETFROM:+0000
TZOFFSETTO:+0100
TZNAME:BST
DTSTART:20260329T010000
END:DAYLIGHT
BEGIN:STANDARD
TZOFFSETFROM:+0100
TZOFFSETTO:+0000
TZNAME:GMT
DTSTART:20261025T010000
END:STANDARD
BEGIN:DAYLIGHT
TZOFFSETFROM:+0000
TZOFFSETTO:+0100
TZNAME:BST
DTSTART:20270328T010000
END:DAYLIGHT
BEGIN:STANDARD
TZOFFSETFROM:+0100
TZOFFSETTO:+0000
TZNAME:GMT
DTSTART:20271031T010000
END:STANDARD
END:VTIMEZONE
BEGIN:VEVENT
DTSTART;VALUE=DATE:20260212
DTEND;VALUE=DATE:20260216
DTSTAMP:20260420T154614
CREATED:20260202T114106Z
LAST-MODIFIED:20260202T114106Z
UID:10002026-1770854400-1771199999@royal-leamington-spa.co.uk
SUMMARY:Valentine's Day Event
DESCRIPTION:Build a flower that lasts as long as your love will! £30 per couple to build a Lego Rose each and a complimentary glass of prosecco each.
URL:https://royal-leamington-spa.co.uk/event/valentines-day-event/
LOCATION:Bricks n Pieces\, 37 Park Street\, Leamington Spa\, CV32 4QN\, United Kingdom
CATEGORIES:Event
ATTACH;FMTTYPE=image/jpeg:https://royal-leamington-spa.co.uk/wp-content/uploads/2026/02/618137134_122122590717050288_8189073506901879763_n.jpg
END:VEVENT
BEGIN:VEVENT
DTSTART;TZID=Europe/London:20260214T100000
DTEND;TZID=Europe/London:20260214T230000
DTSTAMP:20260420T154614
CREATED:20260203T111435Z
LAST-MODIFIED:20260203T111509Z
UID:10002031-1771063200-1771110000@royal-leamington-spa.co.uk
SUMMARY:The Spicy Librarian Grand Opening Weekend
DESCRIPTION:Come and browse our new store\, grab a drink at the bar (a dark and broody anyone?) and leave with a new book boyfriend!
URL:https://royal-leamington-spa.co.uk/event/the-spicy-librarian-grand-opening-weekend-2/
LOCATION:The Spicy Librarian\, 45 Warwick Street\, Leamington Spa\, CV32 5JX
CATEGORIES:Event,Free Event
ATTACH;FMTTYPE=image/png:https://royal-leamington-spa.co.uk/wp-content/uploads/2026/02/Screenshot-2026-02-02-160000-1.png
END:VEVENT
BEGIN:VEVENT
DTSTART;TZID=Europe/London:20260214T120000
DTEND;TZID=Europe/London:20260214T160000
DTSTAMP:20260420T154614
CREATED:20260205T105753Z
LAST-MODIFIED:20260205T105753Z
UID:10002035-1771070400-1771084800@royal-leamington-spa.co.uk
SUMMARY:Show Some Love this Valentine's Day!
DESCRIPTION:On Saturday 14th February\, join us at Regent Court\, where a Giant Heart will be roaming the centre\, spreading Valentine’s love\, handing out flowers\, chocolates and entry to our Valentine’s giveaway worth £100. \n\n\n\nWhether you are shopping for a last minute gift at Space NK\, enjoying a romantic meal at Eyna Lounge\, getting the competitive juices flowing at Gamefinity\, treating them to something sweet at Creme de la Creme\, turning up the heat at Nando’s\, keeping it casual with coffee at Bar Angeli\, or sipping cocktails with girls for Galentine’s\, you can grab a photo and free Valentine’s treats from our giant heart at Regent Court.\n\n\n\nPlan the perfect Valentine’s by viewing all the stores and restaurants on the Regent Court by clicking here: bit.ly/4qVUJJX\n\n\n#regentcourt #valentinesevent #valentinesday #datenightideas
URL:https://royal-leamington-spa.co.uk/event/show-some-love-this-valentines-day/
LOCATION:Regent Court Shopping Centre\, Regent Court\, Leamington Spa\, CV32 4NP\, United Kingdom
CATEGORIES:Event,Free Event
ATTACH;FMTTYPE=image/png:https://royal-leamington-spa.co.uk/wp-content/uploads/2026/02/RC-Val.png
GEO:52.289579;-1.5343535
X-APPLE-STRUCTURED-LOCATION;VALUE=URI;X-ADDRESS=Regent Court Shopping Centre Regent Court Leamington Spa CV32 4NP United Kingdom;X-APPLE-RADIUS=500;X-TITLE=Regent Court:geo:-1.5343535,52.289579
END:VEVENT
END:VCALENDAR