BEGIN:VCALENDAR
VERSION:2.0
PRODID:-//Royal Leamington Spa - ECPv6.15.16//NONSGML v1.0//EN
CALSCALE:GREGORIAN
METHOD:PUBLISH
X-ORIGINAL-URL:https://royal-leamington-spa.co.uk
X-WR-CALDESC:Events for Royal Leamington Spa
REFRESH-INTERVAL;VALUE=DURATION:PT1H
X-Robots-Tag:noindex
X-PUBLISHED-TTL:PT1H
BEGIN:VTIMEZONE
TZID:Europe/London
BEGIN:DAYLIGHT
TZOFFSETFROM:+0000
TZOFFSETTO:+0100
TZNAME:BST
DTSTART:20250330T010000
END:DAYLIGHT
BEGIN:STANDARD
TZOFFSETFROM:+0100
TZOFFSETTO:+0000
TZNAME:GMT
DTSTART:20251026T010000
END:STANDARD
BEGIN:DAYLIGHT
TZOFFSETFROM:+0000
TZOFFSETTO:+0100
TZNAME:BST
DTSTART:20260329T010000
END:DAYLIGHT
BEGIN:STANDARD
TZOFFSETFROM:+0100
TZOFFSETTO:+0000
TZNAME:GMT
DTSTART:20261025T010000
END:STANDARD
BEGIN:DAYLIGHT
TZOFFSETFROM:+0000
TZOFFSETTO:+0100
TZNAME:BST
DTSTART:20270328T010000
END:DAYLIGHT
BEGIN:STANDARD
TZOFFSETFROM:+0100
TZOFFSETTO:+0000
TZNAME:GMT
DTSTART:20271031T010000
END:STANDARD
END:VTIMEZONE
BEGIN:VEVENT
DTSTART;TZID=Europe/London:20260209T190000
DTEND;TZID=Europe/London:20260209T210000
DTSTAMP:20260424T131535
CREATED:20260127T110608Z
LAST-MODIFIED:20260127T110608Z
UID:10002017-1770663600-1770670800@royal-leamington-spa.co.uk
SUMMARY:A Very Lush Galentines Party!!
DESCRIPTION:Grab your besties and come to the most fun\, wholesome and demure Galentines event in town! \n\n\n\n\nIn this 2hr workshop\, you will be getting hands on and using THE freshest ingredients to make your very own Avocado Ice Cream Fresh Face Mask to take home and get your skin looking (even more ) fabulous! \nYou will learn the art of self massage (who needs a partner right?!) using our beautiful solid massage bars and you will learn all the best techniques to really help you relax and unwind- so if you happen to nod off and pop off to dreamland during this section- don’t worry- we will know we have done our job! \nYou will be wowed by our Spa Showcase where we will be introducing our 3 gorgeous Facials – all designed to leave you feeling fabulous\, loving the skin you are in and ready for your close up! There will even be some cheeky special offers available on the night to make those Spa Vouchers even more enticing ! \nWe will end the session with a game of Bingo (with great prizes ) and of course \, no evening is complete without a spot of retail therapy so come along and shop some of our newest ranges- if you don’t spoil yourself\, who else is going to?? Self care is not selfish – its a need!!
URL:https://royal-leamington-spa.co.uk/event/a-very-lush-galentines-party/
LOCATION:Hart + Co\, 27 Augusta Place\, Leamington Spa\, CV32 5EL\, United Kingdom
CATEGORIES:Event
ATTACH;FMTTYPE=image/jpeg:https://royal-leamington-spa.co.uk/wp-content/uploads/2026/01/619880721_18301116745285686_1040704854205314193_n.jpg
END:VEVENT
END:VCALENDAR