BEGIN:VCALENDAR
VERSION:2.0
PRODID:-//Royal Leamington Spa - ECPv6.15.16//NONSGML v1.0//EN
CALSCALE:GREGORIAN
METHOD:PUBLISH
X-ORIGINAL-URL:https://royal-leamington-spa.co.uk
X-WR-CALDESC:Events for Royal Leamington Spa
REFRESH-INTERVAL;VALUE=DURATION:PT1H
X-Robots-Tag:noindex
X-PUBLISHED-TTL:PT1H
BEGIN:VTIMEZONE
TZID:Europe/London
BEGIN:DAYLIGHT
TZOFFSETFROM:+0000
TZOFFSETTO:+0100
TZNAME:BST
DTSTART:20230326T010000
END:DAYLIGHT
BEGIN:STANDARD
TZOFFSETFROM:+0100
TZOFFSETTO:+0000
TZNAME:GMT
DTSTART:20231029T010000
END:STANDARD
BEGIN:DAYLIGHT
TZOFFSETFROM:+0000
TZOFFSETTO:+0100
TZNAME:BST
DTSTART:20240331T010000
END:DAYLIGHT
BEGIN:STANDARD
TZOFFSETFROM:+0100
TZOFFSETTO:+0000
TZNAME:GMT
DTSTART:20241027T010000
END:STANDARD
BEGIN:DAYLIGHT
TZOFFSETFROM:+0000
TZOFFSETTO:+0100
TZNAME:BST
DTSTART:20250330T010000
END:DAYLIGHT
BEGIN:STANDARD
TZOFFSETFROM:+0100
TZOFFSETTO:+0000
TZNAME:GMT
DTSTART:20251026T010000
END:STANDARD
BEGIN:DAYLIGHT
TZOFFSETFROM:+0000
TZOFFSETTO:+0100
TZNAME:BST
DTSTART:20260329T010000
END:DAYLIGHT
BEGIN:STANDARD
TZOFFSETFROM:+0100
TZOFFSETTO:+0000
TZNAME:GMT
DTSTART:20261025T010000
END:STANDARD
END:VTIMEZONE
BEGIN:VTIMEZONE
TZID:UTC
BEGIN:STANDARD
TZOFFSETFROM:+0000
TZOFFSETTO:+0000
TZNAME:UTC
DTSTART:20210101T000000
END:STANDARD
END:VTIMEZONE
BEGIN:VEVENT
DTSTART;TZID=Europe/London:20250531T190000
DTEND;TZID=Europe/London:20250531T220000
DTSTAMP:20260419T230201
CREATED:20250507T093529Z
LAST-MODIFIED:20250507T093529Z
UID:10001019-1748718000-1748728800@royal-leamington-spa.co.uk
SUMMARY:21st Annual Variety Concert for Christian Aid
DESCRIPTION:Leamington Baptist Church are excited to present the 21st Annual Variety Concert on Saturday\, 31st May. There will be music to suit every taste from classical through folk and jazz to good old rock and roll … Doors open at 6.30pm and the concert begins at 7.00pm with a short intermission for refreshments about halfway through the programme. \nAdmission will be FREE\, and any donations will go to Christian Aid.
URL:https://royal-leamington-spa.co.uk/event/21st-annual-variety-concert-for-christian-aid/
LOCATION:Leamington Baptist Church\, Chandos Street\, Leamington Spa\, CV32 4RN\, United Kingdom
CATEGORIES:Event
ATTACH;FMTTYPE=image/png:https://royal-leamington-spa.co.uk/wp-content/uploads/2025/05/Baptist-Church_Christian-Aid-Concert-May-31-2025-FB.png
ORGANIZER;CN="Leamington Baptist Church":MAILTO:administrator@leambaptist.uk
GEO:52.2931796;-1.5338907
X-APPLE-STRUCTURED-LOCATION;VALUE=URI;X-ADDRESS=Leamington Baptist Church Chandos Street Leamington Spa CV32 4RN United Kingdom;X-APPLE-RADIUS=500;X-TITLE=Chandos Street:geo:-1.5338907,52.2931796
END:VEVENT
BEGIN:VEVENT
DTSTART;TZID=Europe/London:20241207T193000
DTEND;TZID=Europe/London:20241207T213000
DTSTAMP:20260419T230201
CREATED:20240912T130147Z
LAST-MODIFIED:20240912T130147Z
UID:10000966-1733599800-1733607000@royal-leamington-spa.co.uk
SUMMARY:Christmas Acoustic Concert - Gareth Davis-Jones
DESCRIPTION:An engaging evening of carols\, Christmas songs\, singalongs and stories to celebrate the Christmas Season! \n 
URL:https://royal-leamington-spa.co.uk/event/christmas-acoustic-concert-gareth-davis-jones/
LOCATION:Leamington Baptist Church\, Chandos Street\, Leamington Spa\, CV32 4RN\, United Kingdom
CATEGORIES:Event
ATTACH;FMTTYPE=image/png:https://royal-leamington-spa.co.uk/wp-content/uploads/2024/09/acoustic-concert.png
ORGANIZER;CN="Leamington Baptist Church":MAILTO:administrator@leambaptist.uk
GEO:52.2931796;-1.5338907
X-APPLE-STRUCTURED-LOCATION;VALUE=URI;X-ADDRESS=Leamington Baptist Church Chandos Street Leamington Spa CV32 4RN United Kingdom;X-APPLE-RADIUS=500;X-TITLE=Chandos Street:geo:-1.5338907,52.2931796
END:VEVENT
BEGIN:VEVENT
DTSTART;TZID=Europe/London:20241109T190000
DTEND;TZID=Europe/London:20241109T210000
DTSTAMP:20260419T230201
CREATED:20240618T134556Z
LAST-MODIFIED:20240618T135053Z
UID:10000952-1731178800-1731186000@royal-leamington-spa.co.uk
SUMMARY:Concert for Christian Aid
DESCRIPTION:Come and join us for an evening of music for all tastes… Classical\, folk\, pop classics\, ukuleles and good old rock and/or roll! \n  \n 
URL:https://royal-leamington-spa.co.uk/event/concert-for-christian-aid/
LOCATION:Leamington Baptist Church\, Chandos Street\, Leamington Spa\, CV32 4RN\, United Kingdom
CATEGORIES:Event
ATTACH;FMTTYPE=image/png:https://royal-leamington-spa.co.uk/wp-content/uploads/2024/06/christian.png
ORGANIZER;CN="Leamington Baptist Church":MAILTO:administrator@leambaptist.uk
GEO:52.2931796;-1.5338907
X-APPLE-STRUCTURED-LOCATION;VALUE=URI;X-ADDRESS=Leamington Baptist Church Chandos Street Leamington Spa CV32 4RN United Kingdom;X-APPLE-RADIUS=500;X-TITLE=Chandos Street:geo:-1.5338907,52.2931796
END:VEVENT
BEGIN:VEVENT
DTSTART;TZID=UTC:20221129T070000
DTEND;TZID=UTC:20221129T210000
DTSTAMP:20260419T230201
CREATED:20221107T115413Z
LAST-MODIFIED:20221107T115745Z
UID:10000368-1669705200-1669755600@royal-leamington-spa.co.uk
SUMMARY:Christmas Wreath Workshop
DESCRIPTION:If you would like to learn how to make a wreath this Christmas\, join us at Leamington Spa Baptist Church on 29th November for this workshop. \nAll funds raised go to the preschool and if people are interested then they can contact us by phone or email and the Church is on Chandos Street in Leamington.
URL:https://royal-leamington-spa.co.uk/event/christmas-wreath-workshop/
LOCATION:Leamington Baptist Church\, Chandos Street\, Leamington Spa\, CV32 4RN\, United Kingdom
CATEGORIES:Event
ATTACH;FMTTYPE=image/png:https://royal-leamington-spa.co.uk/wp-content/uploads/2022/11/little-stars.png
ORGANIZER;CN="Leamington Baptist Church":MAILTO:administrator@leambaptist.uk
GEO:52.2931796;-1.5338907
X-APPLE-STRUCTURED-LOCATION;VALUE=URI;X-ADDRESS=Leamington Baptist Church Chandos Street Leamington Spa CV32 4RN United Kingdom;X-APPLE-RADIUS=500;X-TITLE=Chandos Street:geo:-1.5338907,52.2931796
END:VEVENT
END:VCALENDAR