BEGIN:VCALENDAR
VERSION:2.0
PRODID:-//Royal Leamington Spa - ECPv6.15.16//NONSGML v1.0//EN
CALSCALE:GREGORIAN
METHOD:PUBLISH
X-WR-CALNAME:Royal Leamington Spa
X-ORIGINAL-URL:https://royal-leamington-spa.co.uk
X-WR-CALDESC:Events for Royal Leamington Spa
REFRESH-INTERVAL;VALUE=DURATION:PT1H
X-Robots-Tag:noindex
X-PUBLISHED-TTL:PT1H
BEGIN:VTIMEZONE
TZID:Europe/London
BEGIN:DAYLIGHT
TZOFFSETFROM:+0000
TZOFFSETTO:+0100
TZNAME:BST
DTSTART:20240331T010000
END:DAYLIGHT
BEGIN:STANDARD
TZOFFSETFROM:+0100
TZOFFSETTO:+0000
TZNAME:GMT
DTSTART:20241027T010000
END:STANDARD
BEGIN:DAYLIGHT
TZOFFSETFROM:+0000
TZOFFSETTO:+0100
TZNAME:BST
DTSTART:20250330T010000
END:DAYLIGHT
BEGIN:STANDARD
TZOFFSETFROM:+0100
TZOFFSETTO:+0000
TZNAME:GMT
DTSTART:20251026T010000
END:STANDARD
BEGIN:DAYLIGHT
TZOFFSETFROM:+0000
TZOFFSETTO:+0100
TZNAME:BST
DTSTART:20260329T010000
END:DAYLIGHT
BEGIN:STANDARD
TZOFFSETFROM:+0100
TZOFFSETTO:+0000
TZNAME:GMT
DTSTART:20261025T010000
END:STANDARD
END:VTIMEZONE
BEGIN:VEVENT
DTSTART;VALUE=DATE:20250412
DTEND;VALUE=DATE:20250428
DTSTAMP:20260424T095329
CREATED:20250324T144748Z
LAST-MODIFIED:20250324T145325Z
UID:33594-1744416000-1745798399@royal-leamington-spa.co.uk
SUMMARY:The Great Easter Egg Hunt
DESCRIPTION:Families are invited to hop around Leamington town centre as part of a fun-filled Easter egg hunt with a difference – with a host of prizes up for grabs. \nThe Great Easter Egg Hunt will see participants search for Easter eggs hidden in the windows of shops\, cafes and restaurants across the town centre between April 12 – 27 inclusive. \nThe egg-citing event organised by BID Leamington will feature three trails\, and people are asked to have a cracking time finding Easter eggs with letters on and gathering the clues to discover the Easter Bunny’s three favourite things to do. \nThis year 75 businesses are taking part in the event\, and those who correctly gather all of the clues will be entered into a prize draw to be in with a chance of winning a £100 voucher to spend in the town plus there is a host of other prizes kindly donated by participating businesses. \nEntry forms are available from participating shops\, Leamington’s Visitor Information Centre and the upper mall of Royal Priors Shopping Centre or you can download the form here! \nCompleted entries can be posted at the Easter post box located at Cenu Cacao\, 114 Regent Street or the BID Leamington office\, in Park Court. \nAlison Shaw\, Project Manager at BID Leamington\, said: “We’re very excited to invite people to take part in our Great Easter Egg Hunt. \n“It will be a great opportunity to have fun while visiting some of our excellent businesses across the town centre. \n“The event has been very well supported and we have some incredible prizes on offer\, and we can’t wait to welcome everyone to the town centre this Easter.
URL:https://royal-leamington-spa.co.uk/event/the-great-easter-egg-hunt-3/
LOCATION:Across Royal Leamington Spa\, Royal Leamington Spa\, CV32\, United Kingdom
CATEGORIES:Event,Free Event
ATTACH;FMTTYPE=image/png:https://royal-leamington-spa.co.uk/wp-content/uploads/2025/03/Advert.png
ORGANIZER;CN="BID Leamington":MAILTO:info@bidleamington.com
GEO:52.2929978;-1.5248128
X-APPLE-STRUCTURED-LOCATION;VALUE=URI;X-ADDRESS=Across Royal Leamington Spa Royal Leamington Spa CV32 United Kingdom;X-APPLE-RADIUS=500;X-TITLE=Royal Leamington Spa:geo:-1.5248128,52.2929978
END:VEVENT
END:VCALENDAR