BEGIN:VCALENDAR
VERSION:2.0
PRODID:-//Royal Leamington Spa - ECPv6.15.16//NONSGML v1.0//EN
CALSCALE:GREGORIAN
METHOD:PUBLISH
X-WR-CALNAME:Royal Leamington Spa
X-ORIGINAL-URL:https://royal-leamington-spa.co.uk
X-WR-CALDESC:Events for Royal Leamington Spa
REFRESH-INTERVAL;VALUE=DURATION:PT1H
X-Robots-Tag:noindex
X-PUBLISHED-TTL:PT1H
BEGIN:VTIMEZONE
TZID:UTC
BEGIN:STANDARD
TZOFFSETFROM:+0000
TZOFFSETTO:+0000
TZNAME:UTC
DTSTART:20230101T000000
END:STANDARD
END:VTIMEZONE
BEGIN:VEVENT
DTSTART;TZID=UTC:20240321T183000
DTEND;TZID=UTC:20240321T200000
DTSTAMP:20260424T100638
CREATED:20240222T120111Z
LAST-MODIFIED:20240222T120156Z
UID:32343-1711045800-1711051200@royal-leamington-spa.co.uk
SUMMARY:Simon Ballard and friends: Beethoven Piano Trio in C minor Op. 1 No. 3
DESCRIPTION:Join Presto Music for an evening recital with Simon Ballard (piano)\, Barbara O’Reilly (violin) and Andrew O’Reilly (cello) performing ‘Beethoven Piano Trio in C minor\, Op. 1 No. 3’! \nBook your FREE tickets here: www.ticketsource.co.uk/booking/t-rpgoepk
URL:https://royal-leamington-spa.co.uk/event/simon-ballard-and-friends-beethoven-piano-trio-in-c-minor-op-1-no-3/
LOCATION:Presto Classical\, 23-25 Regent Grove\, Leamington Spa\, CV32 4NN\, United Kingdom
CATEGORIES:Event
ATTACH;FMTTYPE=image/jpeg:https://royal-leamington-spa.co.uk/wp-content/uploads/2024/02/Simon-Ballard-Beethoven-Flyer-Square-Version.jpg
GEO:52.2913013;-1.5333972
X-APPLE-STRUCTURED-LOCATION;VALUE=URI;X-ADDRESS=Presto Classical 23-25 Regent Grove Leamington Spa CV32 4NN United Kingdom;X-APPLE-RADIUS=500;X-TITLE=23-25 Regent Grove:geo:-1.5333972,52.2913013
END:VEVENT
END:VCALENDAR