BEGIN:VCALENDAR
VERSION:2.0
PRODID:-//Royal Leamington Spa - ECPv6.15.16//NONSGML v1.0//EN
CALSCALE:GREGORIAN
METHOD:PUBLISH
X-WR-CALNAME:Royal Leamington Spa
X-ORIGINAL-URL:https://royal-leamington-spa.co.uk
X-WR-CALDESC:Events for Royal Leamington Spa
REFRESH-INTERVAL;VALUE=DURATION:PT1H
X-Robots-Tag:noindex
X-PUBLISHED-TTL:PT1H
BEGIN:VTIMEZONE
TZID:UTC
BEGIN:STANDARD
TZOFFSETFROM:+0000
TZOFFSETTO:+0000
TZNAME:UTC
DTSTART:20230101T000000
END:STANDARD
END:VTIMEZONE
BEGIN:VEVENT
DTSTART;TZID=UTC:20240407T100000
DTEND;TZID=UTC:20240407T130000
DTSTAMP:20260420T143042
CREATED:20240111T095215Z
LAST-MODIFIED:20240126T115555Z
UID:32088-1712484000-1712494800@royal-leamington-spa.co.uk
SUMMARY:Regency 10k run
DESCRIPTION:Welcome to the Wright Hassall Regency 10k Run – Raising Money for Good Causes\nFounded in 2004\, this event is organised by volunteers from the Leamington Round Table\, and supported by Spa Striders and other local groups such as 41 Club and Kids Run Free. Now attracting around 2\,500 runners each year\, over £350\,000 has been raised to date. \nRunning costs are generously supported by our title sponsor\, Wright Hassall – a leading local law firm. Proceeds are used to help local good causes such as the homeless\, community youth groups\, and school projects.
URL:https://royal-leamington-spa.co.uk/event/regency-10k-run/
LOCATION:Across Royal Leamington Spa\, Royal Leamington Spa\, CV32\, United Kingdom
CATEGORIES:Event
ATTACH;FMTTYPE=image/jpeg:https://royal-leamington-spa.co.uk/wp-content/uploads/2024/01/047e6e37-055f-4944-bd63-9e020942882e.jpg
ORGANIZER;CN="Leamington Round Table":MAILTO:leamingtonrt@gmail.com
GEO:52.2929978;-1.5248128
X-APPLE-STRUCTURED-LOCATION;VALUE=URI;X-ADDRESS=Across Royal Leamington Spa Royal Leamington Spa CV32 United Kingdom;X-APPLE-RADIUS=500;X-TITLE=Royal Leamington Spa:geo:-1.5248128,52.2929978
END:VEVENT
END:VCALENDAR