BEGIN:VCALENDAR
VERSION:2.0
PRODID:-//Royal Leamington Spa - ECPv6.15.16//NONSGML v1.0//EN
CALSCALE:GREGORIAN
METHOD:PUBLISH
X-WR-CALNAME:Royal Leamington Spa
X-ORIGINAL-URL:https://royal-leamington-spa.co.uk
X-WR-CALDESC:Events for Royal Leamington Spa
REFRESH-INTERVAL;VALUE=DURATION:PT1H
X-Robots-Tag:noindex
X-PUBLISHED-TTL:PT1H
BEGIN:VTIMEZONE
TZID:Europe/London
BEGIN:DAYLIGHT
TZOFFSETFROM:+0000
TZOFFSETTO:+0100
TZNAME:BST
DTSTART:20250330T010000
END:DAYLIGHT
BEGIN:STANDARD
TZOFFSETFROM:+0100
TZOFFSETTO:+0000
TZNAME:GMT
DTSTART:20251026T010000
END:STANDARD
BEGIN:DAYLIGHT
TZOFFSETFROM:+0000
TZOFFSETTO:+0100
TZNAME:BST
DTSTART:20260329T010000
END:DAYLIGHT
BEGIN:STANDARD
TZOFFSETFROM:+0100
TZOFFSETTO:+0000
TZNAME:GMT
DTSTART:20261025T010000
END:STANDARD
BEGIN:DAYLIGHT
TZOFFSETFROM:+0000
TZOFFSETTO:+0100
TZNAME:BST
DTSTART:20270328T010000
END:DAYLIGHT
BEGIN:STANDARD
TZOFFSETFROM:+0100
TZOFFSETTO:+0000
TZNAME:GMT
DTSTART:20271031T010000
END:STANDARD
END:VTIMEZONE
BEGIN:VEVENT
DTSTART;TZID=Europe/London:20260211T180000
DTEND;TZID=Europe/London:20260211T190000
DTSTAMP:20260422T185232
CREATED:20260112T141344Z
LAST-MODIFIED:20260112T141622Z
UID:34516-1770832800-1770836400@royal-leamington-spa.co.uk
SUMMARY:Nourish Your Love - The Grounded Way
DESCRIPTION:Come and meet our nutritionist Grace. This welcoming event is designed to help you reset your habits. A small bowl & drink is included. \nWith Valentine’s Day approaching\, Join Grace for practical nutrition tips\, simple lifestyle strategies\, and motivating guidance to help you feeling your best. Nourishment is love. All are welcome\, so bring a friend and start your wellness journey together. \nAll attendees will enjoy a delicious meal and drink at Grounded Kitchen\, making it the perfect opportunity to learn and connect.
URL:https://royal-leamington-spa.co.uk/event/nourish-your-love-the-grounded-way/
LOCATION:Grounded Kitchen\, 96 Warwick Street\, Royal Leamington Spa\, CV32 4QG\, United Kingdom
CATEGORIES:Free Event
ATTACH;FMTTYPE=image/png:https://royal-leamington-spa.co.uk/wp-content/uploads/2026/01/Copy-of-Copy-of-Nutrition-talk-event-Leamington.png
END:VEVENT
END:VCALENDAR