BEGIN:VCALENDAR
VERSION:2.0
PRODID:-//Royal Leamington Spa - ECPv6.15.16//NONSGML v1.0//EN
CALSCALE:GREGORIAN
METHOD:PUBLISH
X-WR-CALNAME:Royal Leamington Spa
X-ORIGINAL-URL:https://royal-leamington-spa.co.uk
X-WR-CALDESC:Events for Royal Leamington Spa
REFRESH-INTERVAL;VALUE=DURATION:PT1H
X-Robots-Tag:noindex
X-PUBLISHED-TTL:PT1H
BEGIN:VTIMEZONE
TZID:Europe/London
BEGIN:DAYLIGHT
TZOFFSETFROM:+0000
TZOFFSETTO:+0100
TZNAME:BST
DTSTART:20240331T010000
END:DAYLIGHT
BEGIN:STANDARD
TZOFFSETFROM:+0100
TZOFFSETTO:+0000
TZNAME:GMT
DTSTART:20241027T010000
END:STANDARD
BEGIN:DAYLIGHT
TZOFFSETFROM:+0000
TZOFFSETTO:+0100
TZNAME:BST
DTSTART:20250330T010000
END:DAYLIGHT
BEGIN:STANDARD
TZOFFSETFROM:+0100
TZOFFSETTO:+0000
TZNAME:GMT
DTSTART:20251026T010000
END:STANDARD
BEGIN:DAYLIGHT
TZOFFSETFROM:+0000
TZOFFSETTO:+0100
TZNAME:BST
DTSTART:20260329T010000
END:DAYLIGHT
BEGIN:STANDARD
TZOFFSETFROM:+0100
TZOFFSETTO:+0000
TZNAME:GMT
DTSTART:20261025T010000
END:STANDARD
END:VTIMEZONE
BEGIN:VEVENT
DTSTART;TZID=Europe/London:20251002T183000
DTEND;TZID=Europe/London:20251002T203000
DTSTAMP:20260420T113717
CREATED:20250925T085953Z
LAST-MODIFIED:20250925T085953Z
UID:34106-1759429800-1759437000@royal-leamington-spa.co.uk
SUMMARY:'Letters from Paris' - Album Launch Concert
DESCRIPTION:Join us for an evening with Alexandra Whittingham (guitar) as she performs a selection of pieces from her upcoming album.\nOur events are free to attend thanks to the generosity of the artists. Please support them directly by purchasing the album\, helping us to continue bringing world-class musicians to Leamington.\n\nBook your FREE tikcets here:www.ticketsource.co.uk/booking/t-avrgmvd
URL:https://royal-leamington-spa.co.uk/event/letters-from-paris-album-launch-concert/
LOCATION:Presto Classical\, 23-25 Regent Grove\, Leamington Spa\, CV32 4NN\, United Kingdom
CATEGORIES:Event
ATTACH;FMTTYPE=image/jpeg:https://royal-leamington-spa.co.uk/wp-content/uploads/2025/09/545526515_1364987645626716_8885622064189684599_n.jpg
GEO:52.2913013;-1.5333972
X-APPLE-STRUCTURED-LOCATION;VALUE=URI;X-ADDRESS=Presto Classical 23-25 Regent Grove Leamington Spa CV32 4NN United Kingdom;X-APPLE-RADIUS=500;X-TITLE=23-25 Regent Grove:geo:-1.5333972,52.2913013
END:VEVENT
END:VCALENDAR