BEGIN:VCALENDAR
VERSION:2.0
PRODID:-//Royal Leamington Spa - ECPv6.15.16//NONSGML v1.0//EN
CALSCALE:GREGORIAN
METHOD:PUBLISH
X-WR-CALNAME:Royal Leamington Spa
X-ORIGINAL-URL:https://royal-leamington-spa.co.uk
X-WR-CALDESC:Events for Royal Leamington Spa
REFRESH-INTERVAL;VALUE=DURATION:PT1H
X-Robots-Tag:noindex
X-PUBLISHED-TTL:PT1H
BEGIN:VTIMEZONE
TZID:Europe/London
BEGIN:DAYLIGHT
TZOFFSETFROM:+0000
TZOFFSETTO:+0100
TZNAME:BST
DTSTART:20240331T010000
END:DAYLIGHT
BEGIN:STANDARD
TZOFFSETFROM:+0100
TZOFFSETTO:+0000
TZNAME:GMT
DTSTART:20241027T010000
END:STANDARD
BEGIN:DAYLIGHT
TZOFFSETFROM:+0000
TZOFFSETTO:+0100
TZNAME:BST
DTSTART:20250330T010000
END:DAYLIGHT
BEGIN:STANDARD
TZOFFSETFROM:+0100
TZOFFSETTO:+0000
TZNAME:GMT
DTSTART:20251026T010000
END:STANDARD
BEGIN:DAYLIGHT
TZOFFSETFROM:+0000
TZOFFSETTO:+0100
TZNAME:BST
DTSTART:20260329T010000
END:DAYLIGHT
BEGIN:STANDARD
TZOFFSETFROM:+0100
TZOFFSETTO:+0000
TZNAME:GMT
DTSTART:20261025T010000
END:STANDARD
END:VTIMEZONE
BEGIN:VEVENT
DTSTART;TZID=Europe/London:20250906T100000
DTEND;TZID=Europe/London:20250906T180000
DTSTAMP:20260422T120752
CREATED:20250701T083437Z
LAST-MODIFIED:20250701T083517Z
UID:10001034-1757152800-1757181600@royal-leamington-spa.co.uk
SUMMARY:Leamington Food & Drink Festival 2025
DESCRIPTION:The highly popular FREE Leamington Food & Drink Festival returns on Saturday 6th & Sunday 7th September at the Royal Pump GardensWith lots of fun\, food and entertainment for ALL the family. This event is FREE to attend – no tickets required.
URL:https://royal-leamington-spa.co.uk/event/leamington-food-drink-festival-2025/2025-09-06/
LOCATION:Pump Room Gardens\, Leamington Spa\, CV32 4AA\, United Kingdom
CATEGORIES:Event,Free Event
ATTACH;FMTTYPE=image/jpeg:https://royal-leamington-spa.co.uk/wp-content/uploads/2022/11/rls-food-festival-family-grass-1080x720-1.jpg
ORGANIZER;CN="BID Leamington":MAILTO:info@bidleamington.com
GEO:52.2870767;-1.5343982
END:VEVENT
END:VCALENDAR