BEGIN:VCALENDAR
VERSION:2.0
PRODID:-//Royal Leamington Spa - ECPv6.15.16//NONSGML v1.0//EN
CALSCALE:GREGORIAN
METHOD:PUBLISH
X-WR-CALNAME:Royal Leamington Spa
X-ORIGINAL-URL:https://royal-leamington-spa.co.uk
X-WR-CALDESC:Events for Royal Leamington Spa
REFRESH-INTERVAL;VALUE=DURATION:PT1H
X-Robots-Tag:noindex
X-PUBLISHED-TTL:PT1H
BEGIN:VTIMEZONE
TZID:UTC
BEGIN:STANDARD
TZOFFSETFROM:+0000
TZOFFSETTO:+0000
TZNAME:UTC
DTSTART:20220101T000000
END:STANDARD
END:VTIMEZONE
BEGIN:VEVENT
DTSTART;TZID=UTC:20231203T120000
DTEND;TZID=UTC:20231203T220000
DTSTAMP:20260422T114954
CREATED:20231116T102949Z
LAST-MODIFIED:20231116T102949Z
UID:31938-1701604800-1701640800@royal-leamington-spa.co.uk
SUMMARY:GENTLEMANS PORT AND CHEESE AFTERNOON SOCIAL
DESCRIPTION:Indulge in an Exquisite Affair: A Gentlemen’s Afternoon of Cheese and Port. Attention all connoisseurs of fine tastes and refined pleasure
URL:https://royal-leamington-spa.co.uk/event/gentlemans-port-and-cheese-afternoon-social/
CATEGORIES:Event
ATTACH;FMTTYPE=image/jpeg:https://royal-leamington-spa.co.uk/wp-content/uploads/2023/11/https___cdn.evbuc_.com_images_636965739_1885550935803_1_original.jpg
END:VEVENT
END:VCALENDAR